BEGIN:VCALENDAR
PRODID:-//http://statistik.d-u-v.org//PHP ultracalendar//EN
VERSION:2.0
METHOD:PUBLISH
BEGIN:VEVENT
DTSTAMP:20260423T044344
CREATED:20240901T033845
UID:1776919424.0.09858500-110152@statistik.d-u-v.org
SUMMARY:Tartarus Backyard Ultra Ruck
DESCRIPTION: Tartarus Backyard Ultra Ruck\n
  \n
  kaniksuultra[at]gmail.com
DTSTART:20240817T070000
DTEND:20240818T080000
LOCATION:Nine Mile Falls, WA\, USA
URL:https://www.kaniksuultras.com/tarturus-backyard-ultra
CATEGORIES:Ultramarathon
CONTACT:
CLASS:PUBLIC
PRIORITY:5
TRANSP:OPAQUE
END:VEVENT
END:VCALENDAR
