BEGIN:VCALENDAR
PRODID:-//http://statistik.d-u-v.org//PHP ultracalendar//EN
VERSION:2.0
METHOD:PUBLISH
BEGIN:VEVENT
DTSTAMP:20260421T031921
CREATED:20240821T133154
UID:1776741561.0.82956200-109851@statistik.d-u-v.org
SUMMARY:100 Km Tiranga Stadium Run
DESCRIPTION: 100 Km Tiranga Stadium Run\n
  \n
  indoresupercharger[at]gmail.com
DTSTART:20240818T003000
DTEND:00000000T235900
LOCATION:Indore\, IND
URL:https://indiarunning.com/event.html?id=10963
CATEGORIES:Ultramarathon
CONTACT:
CLASS:PUBLIC
PRIORITY:5
TRANSP:OPAQUE
END:VEVENT
END:VCALENDAR
