BEGIN:VCALENDAR
PRODID:-//http://statistik.d-u-v.org//PHP ultracalendar//EN
VERSION:2.0
METHOD:PUBLISH
BEGIN:VEVENT
DTSTAMP:20260420T160924
CREATED:20240818T191601
UID:1776701364.0.85172700-109817@statistik.d-u-v.org
SUMMARY:Prazska Stovka - Prager Ultratrail 50km
DESCRIPTION: Prazska Stovka - Prager Ultratrail 50km\n
  \n
  olaf.cihak[at]dalkovepochody.cz
DTSTART:20231202T104000
DTEND:00000000T235900
LOCATION:Praha\, CZE
URL:http://www.dalkovepochody.cz/ps.htm
CATEGORIES:Ultramarathon
CONTACT:
CLASS:PUBLIC
PRIORITY:5
TRANSP:OPAQUE
END:VEVENT
END:VCALENDAR
