BEGIN:VCALENDAR
PRODID:-//http://statistik.d-u-v.org//PHP ultracalendar//EN
VERSION:2.0
METHOD:PUBLISH
BEGIN:VEVENT
DTSTAMP:20260419T220801
CREATED:20240814T212417
UID:1776636481.0.03548900-109768@statistik.d-u-v.org
SUMMARY:Bucovina Ultra Rocks - Ultra Rocks
DESCRIPTION: Bucovina Ultra Rocks - Ultra Rocks\n
  \n
  run[at]bucovinaultra.ro
DTSTART:20240726T230000
DTEND:20240728T050000
LOCATION:Campulung Moldovenesc\, ROU
URL:https://bucovinaultra.rocks/
CATEGORIES:Ultramarathon
CONTACT:
CLASS:PUBLIC
PRIORITY:5
TRANSP:OPAQUE
END:VEVENT
END:VCALENDAR
