BEGIN:VCALENDAR
PRODID:-//http://statistik.d-u-v.org//PHP ultracalendar//EN
VERSION:2.0
METHOD:PUBLISH
BEGIN:VEVENT
DTSTAMP:20260419T164811
CREATED:20240811T103818
UID:1776617291.0.26887200-109712@statistik.d-u-v.org
SUMMARY:Ebor Endurance 7h
DESCRIPTION: Ebor Endurance 7h\n
  \n
  info[at]SeeYorkRunYork.co.uk
DTSTART:20240629T080000
DTEND:00000000T235900
LOCATION:York\, GBR
URL:https://www.seeyorkrunyork.co.uk/events/ebor-endurance-50-mile-and-7-hour-challenges
CATEGORIES:Ultramarathon
CONTACT:
CLASS:PUBLIC
PRIORITY:5
TRANSP:OPAQUE
END:VEVENT
END:VCALENDAR
