BEGIN:VCALENDAR
PRODID:-//http://statistik.d-u-v.org//PHP ultracalendar//EN
VERSION:2.0
METHOD:PUBLISH
BEGIN:VEVENT
DTSTAMP:20260420T054737
CREATED:20240807T062803
UID:1776664057.0.88302400-109688@statistik.d-u-v.org
SUMMARY:Kananoher FortyFive
DESCRIPTION: Kananoher FortyFive\n
  Heiko von der Ahé\n
  tekkelpower[at]web.de
DTSTART:20240831T090000
DTEND:00000000T235900
LOCATION:Langenhagen\, GER
URL:https://my.raceresult.com/clubs/3977/
CATEGORIES:Ultramarathon
CONTACT:Heiko von der Ahé
CLASS:PUBLIC
PRIORITY:5
TRANSP:OPAQUE
END:VEVENT
END:VCALENDAR
