BEGIN:VCALENDAR
PRODID:-//http://statistik.d-u-v.org//PHP ultracalendar//EN
VERSION:2.0
METHOD:PUBLISH
BEGIN:VEVENT
DTSTAMP:20260419T161614
CREATED:20240810T122323
UID:1776615374.0.78926200-109678@statistik.d-u-v.org
SUMMARY:Trail des Sources de l'Yvette - P'tite Trotte
DESCRIPTION: Trail des Sources de l'Yvette - P'tite Trotte\n
  \n
  tsy.levis78[at]gmail.com
DTSTART:20230924T043000
DTEND:00000000T235900
LOCATION:Levis-Saint-Nom\, FRA
URL:https://www.tsy-levis78.fr/
CATEGORIES:Ultramarathon
CONTACT:
CLASS:PUBLIC
PRIORITY:5
TRANSP:OPAQUE
END:VEVENT
END:VCALENDAR
