BEGIN:VCALENDAR
PRODID:-//http://statistik.d-u-v.org//PHP ultracalendar//EN
VERSION:2.0
METHOD:PUBLISH
BEGIN:VEVENT
DTSTAMP:20260422T234938
CREATED:20240809T145047
UID:1776901778.0.66536800-109658@statistik.d-u-v.org
SUMMARY:Ultramaratona dos Anjos 55KM Easy
DESCRIPTION: Ultramaratona dos Anjos 55KM Easy\n
  \n
  
DTSTART:20240713T080000
DTEND:00000000T235900
LOCATION:Passa-Quatro\, BRA
URL:https://utmb.world/utmb-index/races/31420.u-a-i-reverse65km.2023
CATEGORIES:Ultramarathon
CONTACT:
CLASS:PUBLIC
PRIORITY:5
TRANSP:OPAQUE
END:VEVENT
END:VCALENDAR
