BEGIN:VCALENDAR
PRODID:-//http://statistik.d-u-v.org//PHP ultracalendar//EN
VERSION:2.0
METHOD:PUBLISH
BEGIN:VEVENT
DTSTAMP:20260422T234902
CREATED:20240808T122411
UID:1776901742.0.45616600-109655@statistik.d-u-v.org
SUMMARY:Ultramaratona dos Anjos 95KM Medium
DESCRIPTION: Ultramaratona dos Anjos 95KM Medium\n
  \n
  
DTSTART:20240713T080000
DTEND:20240714T060000
LOCATION:Passa-Quatro\, BRA
URL:https://utmb.world/utmb-index/races/31422.u-a-i-reverse95km.2023
CATEGORIES:Ultramarathon
CONTACT:
CLASS:PUBLIC
PRIORITY:5
TRANSP:OPAQUE
END:VEVENT
END:VCALENDAR
