BEGIN:VCALENDAR
PRODID:-//http://statistik.d-u-v.org//PHP ultracalendar//EN
VERSION:2.0
METHOD:PUBLISH
BEGIN:VEVENT
DTSTAMP:20260421T221619
CREATED:20240808T083025
UID:1776809779.0.65359100-109649@statistik.d-u-v.org
SUMMARY:Cassino Ultra Race 230K
DESCRIPTION: Cassino Ultra Race 230K\n
  \n
  
DTSTART:20240321T060000
DTEND:20240324T235900
LOCATION:Barra do Chui, RS\, BRA
URL:https://doity.com.br/cassino-ultra-race-2021
CATEGORIES:Ultramarathon
CONTACT:
CLASS:PUBLIC
PRIORITY:5
TRANSP:OPAQUE
END:VEVENT
END:VCALENDAR
