BEGIN:VCALENDAR
PRODID:-//http://statistik.d-u-v.org//PHP ultracalendar//EN
VERSION:2.0
METHOD:PUBLISH
BEGIN:VEVENT
DTSTAMP:20260422T234915
CREATED:20240807T173808
UID:1776901755.0.66441200-109640@statistik.d-u-v.org
SUMMARY:U.A.I. Reverse - Long Hard
DESCRIPTION: U.A.I. Reverse - Long Hard\n
  \n
  
DTSTART:20231117T080000
DTEND:20231118T020000
LOCATION:Passa-Quatro\, BRA
URL:https://utmb.world/utmb-index/races/31426.u-a-i-reverse180km.2023
CATEGORIES:Ultramarathon
CONTACT:
CLASS:PUBLIC
PRIORITY:5
TRANSP:OPAQUE
END:VEVENT
END:VCALENDAR
