BEGIN:VCALENDAR
PRODID:-//http://statistik.d-u-v.org//PHP ultracalendar//EN
VERSION:2.0
METHOD:PUBLISH
BEGIN:VEVENT
DTSTAMP:20260423T012357
CREATED:20240727T135329
UID:1776907437.0.53595200-109483@statistik.d-u-v.org
SUMMARY:Fischland-Darß-Zingst-Ultramarathon (FDZU)
DESCRIPTION: Fischland-Darß-Zingst-Ultramarathon (FDZU)\n
  Henry Fiddike\n
  henry.fiddike[at]fischland-darss-zingst-ultramarathon.eu
DTSTART:20250614T040000
DTEND:20250614T210000
LOCATION:Ribnitz-Damgarten\, GER
URL:https://www.fischland-darss-zingst-ultramarathon.eu/
CATEGORIES:Ultramarathon
CONTACT:Henry Fiddike
CLASS:PUBLIC
PRIORITY:5
TRANSP:OPAQUE
END:VEVENT
END:VCALENDAR
