BEGIN:VCALENDAR
PRODID:-//http://statistik.d-u-v.org//PHP ultracalendar//EN
VERSION:2.0
METHOD:PUBLISH
BEGIN:VEVENT
DTSTAMP:20260423T025020
CREATED:20240726T120908
UID:1776912620.0.97033500-109459@statistik.d-u-v.org
SUMMARY:McNaughton 30 Mile Ultra Race
DESCRIPTION: McNaughton 30 Mile Ultra Race\n
  \n
  
DTSTART:20040403T000000
DTEND:00000000T235900
LOCATION:Pekin, IL\, USA
URL:http://www.mcnaughtonparktrailruns.com/
CATEGORIES:Ultramarathon
CONTACT:
CLASS:PUBLIC
PRIORITY:5
TRANSP:OPAQUE
END:VEVENT
END:VCALENDAR
