BEGIN:VCALENDAR
PRODID:-//http://statistik.d-u-v.org//PHP ultracalendar//EN
VERSION:2.0
METHOD:PUBLISH
BEGIN:VEVENT
DTSTAMP:20260422T194009
CREATED:20240724T115619
UID:1776886809.0.88382600-109400@statistik.d-u-v.org
SUMMARY:Copper Kings 100
DESCRIPTION: Copper Kings 100\n
  \n
  
DTSTART:20240628T000000
DTEND:20240629T235900
LOCATION:Butte, MT\, USA
URL:https://ultrasignup.com/register.aspx?did=107280
CATEGORIES:Ultramarathon
CONTACT:
CLASS:PUBLIC
PRIORITY:5
TRANSP:OPAQUE
END:VEVENT
END:VCALENDAR
