BEGIN:VCALENDAR
PRODID:-//http://statistik.d-u-v.org//PHP ultracalendar//EN
VERSION:2.0
METHOD:PUBLISH
BEGIN:VEVENT
DTSTAMP:20260419T183231
CREATED:20240724T043817
UID:1776623551.0.81277600-109378@statistik.d-u-v.org
SUMMARY:Vegan Power 50K
DESCRIPTION: Vegan Power 50K\n
  Ana M. Wolf (Race Director)\n
  veganpower50k[at]yahoo.com;anamayawolf[at]yahoo.com
DTSTART:20240622T070000
DTEND:00000000T235900
LOCATION:Pittsfield, MA\, USA
URL:https://ultrasignup.com/register.aspx?did=72910
CATEGORIES:Ultramarathon
CONTACT:Ana M. Wolf (Race Director)
CLASS:PUBLIC
PRIORITY:5
TRANSP:OPAQUE
END:VEVENT
END:VCALENDAR
