BEGIN:VCALENDAR
PRODID:-//http://statistik.d-u-v.org//PHP ultracalendar//EN
VERSION:2.0
METHOD:PUBLISH
BEGIN:VEVENT
DTSTAMP:20260423T043502
CREATED:20240723T134809
UID:1776918902.0.96201100-109337@statistik.d-u-v.org
SUMMARY:Coventry Woods Trail Running Festival
DESCRIPTION: Coventry Woods Trail Running Festival\n
  \n
  
DTSTART:20240616T060000
DTEND:00000000T235900
LOCATION:Pottstown, PA\, USA
URL:https://runsignup.com/Race/PA/Pottstown/CoventryWoodsTrailRunningFestival
CATEGORIES:Ultramarathon
CONTACT:
CLASS:PUBLIC
PRIORITY:5
TRANSP:OPAQUE
END:VEVENT
END:VCALENDAR
