BEGIN:VCALENDAR
PRODID:-//http://statistik.d-u-v.org//PHP ultracalendar//EN
VERSION:2.0
METHOD:PUBLISH
BEGIN:VEVENT
DTSTAMP:20260422T231419
CREATED:20240722T150725
UID:1776899659.0.61710300-109312@statistik.d-u-v.org
SUMMARY:Highlands Sky 40M Trail Run
DESCRIPTION: Highlands Sky 40M Trail Run\n
  Dan Lehmann\n
  irunwv[at]gmail.com
DTSTART:20240615T060000
DTEND:00000000T235900
LOCATION:Davis, WV\, USA
URL:http://www.wvmtr.org/races/highlands-sky/
CATEGORIES:Ultramarathon
CONTACT:Dan Lehmann
CLASS:PUBLIC
PRIORITY:5
TRANSP:OPAQUE
END:VEVENT
END:VCALENDAR
