BEGIN:VCALENDAR
PRODID:-//http://statistik.d-u-v.org//PHP ultracalendar//EN
VERSION:2.0
METHOD:PUBLISH
BEGIN:VEVENT
DTSTAMP:20260420T000706
CREATED:20070730T000000
UID:1776643626.0.85319800-1093@statistik.d-u-v.org
SUMMARY:East Hull Harriers 24 Hours Track Race
DESCRIPTION: East Hull Harriers 24 Hours Track Race\n
  \n
  
DTSTART:20070714T000000
DTEND:20070715T235900
LOCATION:Kingston Upon Hull\, GBR
URL:http://www.webnet.karoo.net/24hr/24hrpage.htm
CATEGORIES:Ultramarathon
CONTACT:
CLASS:PUBLIC
PRIORITY:5
TRANSP:OPAQUE
END:VEVENT
END:VCALENDAR
