BEGIN:VCALENDAR
PRODID:-//http://statistik.d-u-v.org//PHP ultracalendar//EN
VERSION:2.0
METHOD:PUBLISH
BEGIN:VEVENT
DTSTAMP:20260419T164856
CREATED:20240722T025714
UID:1776617336.0.23027300-109287@statistik.d-u-v.org
SUMMARY:Cinderella 50 km Spring Trail Run
DESCRIPTION: Cinderella 50 km Spring Trail Run\n
  \n
  
DTSTART:20240608T080000
DTEND:00000000T235900
LOCATION:Oakland, CA\, USA
URL:http://www.coastaltrailruns.com/cin_spr_cinderella.html
CATEGORIES:Ultramarathon
CONTACT:
CLASS:PUBLIC
PRIORITY:5
TRANSP:OPAQUE
END:VEVENT
END:VCALENDAR
