BEGIN:VCALENDAR
PRODID:-//http://statistik.d-u-v.org//PHP ultracalendar//EN
VERSION:2.0
METHOD:PUBLISH
BEGIN:VEVENT
DTSTAMP:20260423T020552
CREATED:20240721T024804
UID:1776909952.0.79938500-109252@statistik.d-u-v.org
SUMMARY:Merrill's Mile 24 Hour Run
DESCRIPTION: Merrill's Mile 24 Hour Run\n
  Willy Syndram\n
  dumassevents[at]gmail.com
DTSTART:20240608T090000
DTEND:20240609T090000
LOCATION:Dahlonega, GA\, USA
URL:http://www.dumassevents.com/merrills-mile.html
CATEGORIES:Ultramarathon
CONTACT:Willy Syndram
CLASS:PUBLIC
PRIORITY:5
TRANSP:OPAQUE
END:VEVENT
END:VCALENDAR
