BEGIN:VCALENDAR
PRODID:-//http://statistik.d-u-v.org//PHP ultracalendar//EN
VERSION:2.0
METHOD:PUBLISH
BEGIN:VEVENT
DTSTAMP:20260423T043530
CREATED:20240720T184753
UID:1776918930.0.90670300-109246@statistik.d-u-v.org
SUMMARY:Sawmill 35 Mile Race
DESCRIPTION: Sawmill 35 Mile Race\n
  \n
  heidi[at]tripledareruns.com
DTSTART:20250607T073000
DTEND:00000000T235900
LOCATION:Mount Charleston, NV\, USA
URL:http://www.tripledareruns.com/
CATEGORIES:Ultramarathon
CONTACT:
CLASS:PUBLIC
PRIORITY:5
TRANSP:OPAQUE
END:VEVENT
END:VCALENDAR
