BEGIN:VCALENDAR
PRODID:-//http://statistik.d-u-v.org//PHP ultracalendar//EN
VERSION:2.0
METHOD:PUBLISH
BEGIN:VEVENT
DTSTAMP:20260420T035223
CREATED:20240720T175044
UID:1776657143.0.84634500-109238@statistik.d-u-v.org
SUMMARY:Lowells Loop
DESCRIPTION: Lowells Loop\n
  \n
  
DTSTART:20240601T080000
DTEND:00000000T235900
LOCATION:Pleasant Hill, OR\, USA
URL:https://www.lowellsloop.com/
CATEGORIES:Ultramarathon
CONTACT:
CLASS:PUBLIC
PRIORITY:5
TRANSP:OPAQUE
END:VEVENT
END:VCALENDAR
