BEGIN:VCALENDAR
PRODID:-//http://statistik.d-u-v.org//PHP ultracalendar//EN
VERSION:2.0
METHOD:PUBLISH
BEGIN:VEVENT
DTSTAMP:20260419T211123
CREATED:20240719T181338
UID:1776633083.0.20423300-109196@statistik.d-u-v.org
SUMMARY:Eagle Up Ultra 50 Mile
DESCRIPTION: Eagle Up Ultra 50 Mile\n
  Race Director: Eric Whitting\n
  
DTSTART:20250607T000000
DTEND:20250608T235900
LOCATION:Canal Fulton, OH\, USA
URL:http://verticalrunnerrm.com/home.html
CATEGORIES:Ultramarathon
CONTACT:Race Director: Eric Whitting
CLASS:PUBLIC
PRIORITY:5
TRANSP:OPAQUE
END:VEVENT
END:VCALENDAR
