BEGIN:VCALENDAR
PRODID:-//http://statistik.d-u-v.org//PHP ultracalendar//EN
VERSION:2.0
METHOD:PUBLISH
BEGIN:VEVENT
DTSTAMP:20260423T002808
CREATED:20240719T075015
UID:1776904088.0.95954700-109155@statistik.d-u-v.org
SUMMARY:Barossa Run - 50km
DESCRIPTION: Barossa Run - 50km\n
  \n
  GoodRunningsinfo[at]gmail.com
DTSTART:20240901T070000
DTEND:00000000T235900
LOCATION:Lyndoch, SA \, AUS
URL:https://goodrunnings.com.au/barossa-run-2/
CATEGORIES:Ultramarathon
CONTACT:
CLASS:PUBLIC
PRIORITY:5
TRANSP:OPAQUE
END:VEVENT
END:VCALENDAR
