BEGIN:VCALENDAR
PRODID:-//http://statistik.d-u-v.org//PHP ultracalendar//EN
VERSION:2.0
METHOD:PUBLISH
BEGIN:VEVENT
DTSTAMP:20260419T230706
CREATED:20240717T141814
UID:1776640026.0.33710400-109100@statistik.d-u-v.org
SUMMARY:JFS 50km Norderstedt
DESCRIPTION: JFS 50km Norderstedt\n
  \n
  gm[at]gym-bad-bramstedt.de
DTSTART:20240720T080000
DTEND:20240720T160000
LOCATION:Norderstedt\, GER
URL:http://www.jfs-Bramstedt.de
CATEGORIES:Ultramarathon
CONTACT:
CLASS:PUBLIC
PRIORITY:5
TRANSP:OPAQUE
END:VEVENT
END:VCALENDAR
