BEGIN:VCALENDAR
PRODID:-//http://statistik.d-u-v.org//PHP ultracalendar//EN
VERSION:2.0
METHOD:PUBLISH
BEGIN:VEVENT
DTSTAMP:20260423T053858
CREATED:20070719T000000
UID:1776922738.0.61474600-1091@statistik.d-u-v.org
SUMMARY:Burginsellauf Delmenhorst
DESCRIPTION: Burginsellauf Delmenhorst\n
  \n
  
DTSTART:20070707T000000
DTEND:20070708T235900
LOCATION:Delmenhorst\, GER
URL:http://www.24-lauf.de
CATEGORIES:Ultramarathon
CONTACT:
CLASS:PUBLIC
PRIORITY:5
TRANSP:OPAQUE
END:VEVENT
END:VCALENDAR
