BEGIN:VCALENDAR
PRODID:-//http://statistik.d-u-v.org//PHP ultracalendar//EN
VERSION:2.0
METHOD:PUBLISH
BEGIN:VEVENT
DTSTAMP:20260419T220824
CREATED:20240716T154110
UID:1776636504.0.73198800-109073@statistik.d-u-v.org
SUMMARY:Shitana Medium Trail
DESCRIPTION: Shitana Medium Trail\n
  \n
  contact.shitana[at]gmail.com
DTSTART:20240511T070000
DTEND:00000000T235900
LOCATION:Sejenane\, TUN
URL:https://shitana.tn/
CATEGORIES:Ultramarathon
CONTACT:
CLASS:PUBLIC
PRIORITY:5
TRANSP:OPAQUE
END:VEVENT
END:VCALENDAR
