BEGIN:VCALENDAR
PRODID:-//http://statistik.d-u-v.org//PHP ultracalendar//EN
VERSION:2.0
METHOD:PUBLISH
BEGIN:VEVENT
DTSTAMP:20260419T164851
CREATED:20250525T213511
UID:1776617331.0.86509900-109057@statistik.d-u-v.org
SUMMARY:Harter Knochen Ultra
DESCRIPTION: Harter Knochen Ultra\n
  Christoph Lippmann\n
  chrisi1405[at]gmx.de
DTSTART:20250517T090000
DTEND:20250517T180000
LOCATION:Ettlingen\, GER
URL:https://sites.google.com/view/harterknochenultra/teilnehmer-ergebnisse
CATEGORIES:Ultramarathon
CONTACT:Christoph Lippmann
CLASS:PUBLIC
PRIORITY:5
TRANSP:OPAQUE
END:VEVENT
END:VCALENDAR
