BEGIN:VCALENDAR
PRODID:-//http://statistik.d-u-v.org//PHP ultracalendar//EN
VERSION:2.0
METHOD:PUBLISH
BEGIN:VEVENT
DTSTAMP:20260422T134021
CREATED:20240713T161836
UID:1776865221.0.96558100-108972@statistik.d-u-v.org
SUMMARY:Wien - Rundumadum 61 km
DESCRIPTION: Wien - Rundumadum 61 km\n
  Markus Michelitsch\n
  office[at]wien-rundumadum.at
DTSTART:20241109T113000
DTEND:20241110T053000
LOCATION:Wien\, AUT
URL:http://www.wien-rundumadum.at/
CATEGORIES:Ultramarathon
CONTACT:Markus Michelitsch
CLASS:PUBLIC
PRIORITY:5
TRANSP:OPAQUE
END:VEVENT
END:VCALENDAR
