BEGIN:VCALENDAR
PRODID:-//http://statistik.d-u-v.org//PHP ultracalendar//EN
VERSION:2.0
METHOD:PUBLISH
BEGIN:VEVENT
DTSTAMP:20260420T031935
CREATED:20240707T135949
UID:1776655175.0.98490300-108863@statistik.d-u-v.org
SUMMARY:Quicksilver 50 Mile Endurance Run
DESCRIPTION: Quicksilver 50 Mile Endurance Run\n
  \n
  quicksilver.running[at]gmail.com
DTSTART:19880509T000000
DTEND:00000000T235900
LOCATION:San Jose, CA\, USA
URL:https://www.quicksilver-running.com/
CATEGORIES:Ultramarathon
CONTACT:
CLASS:PUBLIC
PRIORITY:5
TRANSP:OPAQUE
END:VEVENT
END:VCALENDAR
