BEGIN:VCALENDAR
PRODID:-//http://statistik.d-u-v.org//PHP ultracalendar//EN
VERSION:2.0
METHOD:PUBLISH
BEGIN:VEVENT
DTSTAMP:20260423T044317
CREATED:20240707T093526
UID:1776919397.0.99024800-108852@statistik.d-u-v.org
SUMMARY:Leadville Trail 100 Mile
DESCRIPTION: Leadville Trail 100 Mile\n
  Christy Lindh\n
  leadville[at]ltevents.zendesk.com
DTSTART:20240817T040000
DTEND:20240818T100000
LOCATION:Leadville, CO\, USA
URL:http://www.leadvilleraceseries.com/run/
CATEGORIES:Ultramarathon
CONTACT:Christy Lindh
CLASS:PUBLIC
PRIORITY:5
TRANSP:OPAQUE
END:VEVENT
END:VCALENDAR
