BEGIN:VCALENDAR
PRODID:-//http://statistik.d-u-v.org//PHP ultracalendar//EN
VERSION:2.0
METHOD:PUBLISH
BEGIN:VEVENT
DTSTAMP:20260423T145107
CREATED:20240707T034459
UID:1776955867.0.55223700-108841@statistik.d-u-v.org
SUMMARY:Old Dominion 100 Mile Endurance Run
DESCRIPTION: Old Dominion 100 Mile Endurance Run\n
  Ray Waldron\n
  olddominionrun[at]gmail.com
DTSTART:20250607T040000
DTEND:20250608T235900
LOCATION:Woodstock, VA\, USA
URL:http://www.olddominionrun.org/
CATEGORIES:Ultramarathon
CONTACT:Ray Waldron
CLASS:PUBLIC
PRIORITY:5
TRANSP:OPAQUE
END:VEVENT
END:VCALENDAR
