BEGIN:VCALENDAR
PRODID:-//http://statistik.d-u-v.org//PHP ultracalendar//EN
VERSION:2.0
METHOD:PUBLISH
BEGIN:VEVENT
DTSTAMP:20260423T145101
CREATED:20240707T034419
UID:1776955861.0.63385500-108840@statistik.d-u-v.org
SUMMARY:Old Dominion 100 Mile Endurance Run
DESCRIPTION: Old Dominion 100 Mile Endurance Run\n
  Ray Waldron\n
  olddominionrun[at]gmail.com
DTSTART:20240601T040000
DTEND:20240602T235900
LOCATION:Woodstock, VA\, USA
URL:http://www.olddominionrun.org/
CATEGORIES:Ultramarathon
CONTACT:Ray Waldron
CLASS:PUBLIC
PRIORITY:5
TRANSP:OPAQUE
END:VEVENT
END:VCALENDAR
