BEGIN:VCALENDAR
PRODID:-//http://statistik.d-u-v.org//PHP ultracalendar//EN
VERSION:2.0
METHOD:PUBLISH
BEGIN:VEVENT
DTSTAMP:20260423T052753
CREATED:20240706T101727
UID:1776922073.0.29973300-108831@statistik.d-u-v.org
SUMMARY:Alaska Endurance 24 Hour Trail Run
DESCRIPTION: Alaska Endurance 24 Hour Trail Run\n
  Race Director: Don Kiely\n
  don[at]donkiely.com
DTSTART:20240531T200000
DTEND:20240601T200000
LOCATION:Fairbanks, AK\, USA
URL:https://www.alaskaendurancetrailrun.org/
CATEGORIES:Ultramarathon
CONTACT:Race Director: Don Kiely
CLASS:PUBLIC
PRIORITY:5
TRANSP:OPAQUE
END:VEVENT
END:VCALENDAR
