BEGIN:VCALENDAR
PRODID:-//http://statistik.d-u-v.org//PHP ultracalendar//EN
VERSION:2.0
METHOD:PUBLISH
BEGIN:VEVENT
DTSTAMP:20260420T024715
CREATED:20240705T182541
UID:1776653235.0.41277800-108814@statistik.d-u-v.org
SUMMARY:Nanny Goat 100 Mile Race
DESCRIPTION: Nanny Goat 100 Mile Race\n
  Steve Harvey, Race Director\n
  shelli[at]wildhorseracing.net
DTSTART:20240525T080000
DTEND:20240526T235900
LOCATION:Riverside, CA\, USA
URL:https://wildhorseracing.net/
CATEGORIES:Ultramarathon
CONTACT:Steve Harvey, Race Director
CLASS:PUBLIC
PRIORITY:5
TRANSP:OPAQUE
END:VEVENT
END:VCALENDAR
