BEGIN:VCALENDAR
PRODID:-//http://statistik.d-u-v.org//PHP ultracalendar//EN
VERSION:2.0
METHOD:PUBLISH
BEGIN:VEVENT
DTSTAMP:20260420T044120
CREATED:20240705T182444
UID:1776660080.0.29291000-108811@statistik.d-u-v.org
SUMMARY:Nanny Goat 24 Hour Race
DESCRIPTION: Nanny Goat 24 Hour Race\n
  Steve Harvey, Race Director\n
  shelli[at]wildhorseracing.net
DTSTART:20240525T080000
DTEND:20240526T080000
LOCATION:Riverside, CA\, USA
URL:https://wildhorseracing.net/
CATEGORIES:Ultramarathon
CONTACT:Steve Harvey, Race Director
CLASS:PUBLIC
PRIORITY:5
TRANSP:OPAQUE
END:VEVENT
END:VCALENDAR
