BEGIN:VCALENDAR
PRODID:-//http://statistik.d-u-v.org//PHP ultracalendar//EN
VERSION:2.0
METHOD:PUBLISH
BEGIN:VEVENT
DTSTAMP:20260419T164906
CREATED:20240705T151115
UID:1776617346.0.85590900-108798@statistik.d-u-v.org
SUMMARY:Bubbletown What the Duck Ultra
DESCRIPTION: Bubbletown What the Duck Ultra\n
  \n
  
DTSTART:20240525T070000
DTEND:00000000T235900
LOCATION:Boiling Springs, PA\, USA
URL:https://runsignup.com/Race/PA/BoilingSprings/BubbletownWhatTheDuckUltra
CATEGORIES:Ultramarathon
CONTACT:
CLASS:PUBLIC
PRIORITY:5
TRANSP:OPAQUE
END:VEVENT
END:VCALENDAR
