BEGIN:VCALENDAR
PRODID:-//http://statistik.d-u-v.org//PHP ultracalendar//EN
VERSION:2.0
METHOD:PUBLISH
BEGIN:VEVENT
DTSTAMP:20260419T164958
CREATED:20240704T163211
UID:1776617398.0.90667800-108766@statistik.d-u-v.org
SUMMARY:First State 50 km Trail Race
DESCRIPTION: First State 50 km Trail Race\n
  \n
  info[at]beastcoastpro.com
DTSTART:20250518T080000
DTEND:00000000T235900
LOCATION:Wilmington, DE\, USA
URL:https://runsignup.com/Race/DE/Wilmington/FirstStateTrailRace
CATEGORIES:Ultramarathon
CONTACT:
CLASS:PUBLIC
PRIORITY:5
TRANSP:OPAQUE
END:VEVENT
END:VCALENDAR
