BEGIN:VCALENDAR
PRODID:-//http://statistik.d-u-v.org//PHP ultracalendar//EN
VERSION:2.0
METHOD:PUBLISH
BEGIN:VEVENT
DTSTAMP:20260419T183351
CREATED:20240704T161145
UID:1776623631.0.36382900-108762@statistik.d-u-v.org
SUMMARY:Johnston Woods Trails Festival
DESCRIPTION: Johnston Woods Trails Festival\n
  \n
  johnstonwoods[at]bsumc.org
DTSTART:20240518T000000
DTEND:20240519T235900
LOCATION:Cleveland, TN\, USA
URL:https://www.johnstonwoods.org/backyard-ultra
CATEGORIES:Ultramarathon
CONTACT:
CLASS:PUBLIC
PRIORITY:5
TRANSP:OPAQUE
END:VEVENT
END:VCALENDAR
