BEGIN:VCALENDAR
PRODID:-//http://statistik.d-u-v.org//PHP ultracalendar//EN
VERSION:2.0
METHOD:PUBLISH
BEGIN:VEVENT
DTSTAMP:20260420T073034
CREATED:20240704T140704
UID:1776670234.0.36166200-108747@statistik.d-u-v.org
SUMMARY:High Lea 24 Hour Race
DESCRIPTION: High Lea 24 Hour Race\n
  \n
  jennifer1986cf[at]msn.com
DTSTART:20240518T070000
DTEND:20240519T235900
LOCATION:Richfield, OH\, USA
URL:https://fastgirlsrunningcompany.com/
CATEGORIES:Ultramarathon
CONTACT:
CLASS:PUBLIC
PRIORITY:5
TRANSP:OPAQUE
END:VEVENT
END:VCALENDAR
