BEGIN:VCALENDAR
PRODID:-//http://statistik.d-u-v.org//PHP ultracalendar//EN
VERSION:2.0
METHOD:PUBLISH
BEGIN:VEVENT
DTSTAMP:20260419T183400
CREATED:20240703T163510
UID:1776623640.0.92561300-108707@statistik.d-u-v.org
SUMMARY:Massanutten Mountain Trails 100 Mile
DESCRIPTION: Massanutten Mountain Trails 100 Mile\n
  Kevin Sayers\n
  kevin.sayers[at]yahoo.com
DTSTART:20250517T040000
DTEND:20250518T235900
LOCATION:Front Royal, VA\, USA
URL:http://www.vhtrc.org/mmt19/
CATEGORIES:Ultramarathon
CONTACT:Kevin Sayers
CLASS:PUBLIC
PRIORITY:5
TRANSP:OPAQUE
END:VEVENT
END:VCALENDAR
