BEGIN:VCALENDAR
PRODID:-//http://statistik.d-u-v.org//PHP ultracalendar//EN
VERSION:2.0
METHOD:PUBLISH
BEGIN:VEVENT
DTSTAMP:20260419T182247
CREATED:20240703T134040
UID:1776622967.0.48255600-108698@statistik.d-u-v.org
SUMMARY:Keys100 Ultra-Marathons 100mi
DESCRIPTION: Keys100 Ultra-Marathons 100mi\n
  Bob Becker\n
  bob[at]ultrasportsllc.com
DTSTART:20240518T053000
DTEND:20240519T153000
LOCATION:Key West, FL\, USA
URL:http://www.keys100.com/
CATEGORIES:Ultramarathon
CONTACT:Bob Becker
CLASS:PUBLIC
PRIORITY:5
TRANSP:OPAQUE
END:VEVENT
END:VCALENDAR
