BEGIN:VCALENDAR
PRODID:-//http://statistik.d-u-v.org//PHP ultracalendar//EN
VERSION:2.0
METHOD:PUBLISH
BEGIN:VEVENT
DTSTAMP:20260419T183231
CREATED:20240703T120727
UID:1776623551.0.99481700-108692@statistik.d-u-v.org
SUMMARY:Bishop High Sierra Ultramarathons 55 km
DESCRIPTION: Bishop High Sierra Ultramarathons 55 km\n
  \n
  
DTSTART:20240518T000000
DTEND:00000000T235900
LOCATION:Bishop, CA\, USA
URL:http://bishopultras.com/
CATEGORIES:Ultramarathon
CONTACT:
CLASS:PUBLIC
PRIORITY:5
TRANSP:OPAQUE
END:VEVENT
END:VCALENDAR
