BEGIN:VCALENDAR
PRODID:-//http://statistik.d-u-v.org//PHP ultracalendar//EN
VERSION:2.0
METHOD:PUBLISH
BEGIN:VEVENT
DTSTAMP:20260423T070056
CREATED:20240702T155144
UID:1776927656.0.94334300-108669@statistik.d-u-v.org
SUMMARY:Conquer the Canuck 12h
DESCRIPTION: Conquer the Canuck 12h\n
  Tony Martin\n
  conquerthecanuck[at]gmail.com
DTSTART:20240511T090000
DTEND:00000000T235900
LOCATION:Cambridge, ON\, CAN
URL:http://www.conquerthecanuck.ca
CATEGORIES:Ultramarathon
CONTACT:Tony Martin
CLASS:PUBLIC
PRIORITY:5
TRANSP:OPAQUE
END:VEVENT
END:VCALENDAR
