BEGIN:VCALENDAR
PRODID:-//http://statistik.d-u-v.org//PHP ultracalendar//EN
VERSION:2.0
METHOD:PUBLISH
BEGIN:VEVENT
DTSTAMP:20260420T070830
CREATED:20240629T103815
UID:1776668910.0.01200000-108555@statistik.d-u-v.org
SUMMARY:Engiadina Scuol Trail - Alvetern Trail
DESCRIPTION: Engiadina Scuol Trail - Alvetern Trail\n
  Reto Rauch\n
  info[at]scuol-trail.ch
DTSTART:20250628T070000
DTEND:00000000T235900
LOCATION:Scuol\, SUI
URL:https://scuol-trail.ch/
CATEGORIES:Ultramarathon
CONTACT:Reto Rauch
CLASS:PUBLIC
PRIORITY:5
TRANSP:OPAQUE
END:VEVENT
END:VCALENDAR
