BEGIN:VCALENDAR
PRODID:-//http://statistik.d-u-v.org//PHP ultracalendar//EN
VERSION:2.0
METHOD:PUBLISH
BEGIN:VEVENT
DTSTAMP:20260420T044130
CREATED:20240623T071023
UID:1776660090.0.69372900-108515@statistik.d-u-v.org
SUMMARY:Startschuss RUN 12h-Lauf
DESCRIPTION: Startschuss RUN 12h-Lauf\n
  Marco Jaeggi\n
  contact[at]startschuss-coaching.ch
DTSTART:20250111T120000
DTEND:00000000T235900
LOCATION:Jegenstorf\, SUI
URL:https://my.raceresult.com/288755/
CATEGORIES:Ultramarathon
CONTACT:Marco Jaeggi
CLASS:PUBLIC
PRIORITY:5
TRANSP:OPAQUE
END:VEVENT
END:VCALENDAR
