BEGIN:VCALENDAR
PRODID:-//http://statistik.d-u-v.org//PHP ultracalendar//EN
VERSION:2.0
METHOD:PUBLISH
BEGIN:VEVENT
DTSTAMP:20260423T031355
CREATED:20110611T213514
UID:1776914035.0.50916800-10848@statistik.d-u-v.org
SUMMARY:100 km Lauf Biel
DESCRIPTION: 100 km Lauf Biel\n
  \n
  
DTSTART:19710611T000000
DTEND:19710612T235900
LOCATION:Biel\, SUI
URL:
CATEGORIES:Ultramarathon
CONTACT:
CLASS:PUBLIC
PRIORITY:5
TRANSP:OPAQUE
END:VEVENT
END:VCALENDAR
