BEGIN:VCALENDAR
PRODID:-//http://statistik.d-u-v.org//PHP ultracalendar//EN
VERSION:2.0
METHOD:PUBLISH
BEGIN:VEVENT
DTSTAMP:20260420T005807
CREATED:20240624T140434
UID:1776646687.0.47681800-108419@statistik.d-u-v.org
SUMMARY:Xinyue Shawan Ultra Run
DESCRIPTION: Xinyue Shawan Ultra Run\n
  \n
  
DTSTART:20240928T050000
DTEND:00000000T235900
LOCATION:Zhubei City\, TPE
URL:https://www.facebook.com/events/733230522143218?acontext=%7B%22event_action_history%22%3A[%7B%22surface%22%3A%22group%22%7D]%7D
CATEGORIES:Ultramarathon
CONTACT:
CLASS:PUBLIC
PRIORITY:5
TRANSP:OPAQUE
END:VEVENT
END:VCALENDAR
