BEGIN:VCALENDAR
PRODID:-//http://statistik.d-u-v.org//PHP ultracalendar//EN
VERSION:2.0
METHOD:PUBLISH
BEGIN:VEVENT
DTSTAMP:20260419T183355
CREATED:20240508T014712
UID:1776623635.0.46267700-108332@statistik.d-u-v.org
SUMMARY:Sri Chinmoy 6 Hour Race Skopje
DESCRIPTION: Sri Chinmoy 6 Hour Race Skopje\n
  Vasko Jovanov\n
  info[at]srichinmoyraces.mk
DTSTART:20240608T080000
DTEND:20240609T080000
LOCATION:Skopje\, MKD
URL:http://srichinmoyraces.mk
CATEGORIES:Ultramarathon
CONTACT:Vasko Jovanov
CLASS:PUBLIC
PRIORITY:5
TRANSP:OPAQUE
END:VEVENT
END:VCALENDAR
