BEGIN:VCALENDAR
PRODID:-//http://statistik.d-u-v.org//PHP ultracalendar//EN
VERSION:2.0
METHOD:PUBLISH
BEGIN:VEVENT
DTSTAMP:20260424T121822
CREATED:20240618T200008
UID:1777033102.0.38646000-108329@statistik.d-u-v.org
SUMMARY:Ultra North 55km
DESCRIPTION: Ultra North 55km\n
  \n
  
DTSTART:20240713T000000
DTEND:00000000T235900
LOCATION:Newcastle\, GBR
URL:https://www.ultranorth.co.uk
CATEGORIES:Ultramarathon
CONTACT:
CLASS:PUBLIC
PRIORITY:5
TRANSP:OPAQUE
END:VEVENT
END:VCALENDAR
